BEGIN:VCALENDAR
VERSION:2.0
METHOD:PUBLISH
PRODID:-//Accessible Web Design//My Calendar//http://www.joedolson.com//v3.3.14//EN';
BEGIN:VEVENT
UID:1-1
LOCATION:
SUMMARY:Ваннаставне Активности
DTSTAMP:20220321T193000
ORGANIZER;CN=blazojokov:MAILTO:milanbulatovic82@gmail.com
DTSTART:20220321T193000
DTEND:20220321T210000
CATEGORIES:General
URL;VALUE=URI:
DESCRIPTION;ENCODING=QUOTED-PRINTABLE:Дан за ваннаставне активности 
END:VEVENT
END:VCALENDAR